BEGIN:VCALENDAR
VERSION:2.0
PRODID:-//eventon.com NONSGML v1.0//EN
CALSCALE:GREGORIAN
METHOD:PUBLISH
BEGIN:VEVENT
UID:69e74fd363300
DTSTAMP:20260421T102211Z
DTSTART:20250809T130000Z
DTEND:20250809T200000Z
LOCATION:
SUMMARY:Offener Brett- und Rollenspielabend
DESCRIPTION:Offener Brett- und Rollenspielabend\nhttps://zlr.info/events/of
 fener-brett-und-rollenspielabend-3
URL:https://zlr.info/events/offener-brett-und-rollenspielabend-3
END:VEVENT
END:VCALENDAR